BEGIN:VCALENDAR
VERSION:2.0
PRODID:-//ChamberMaster//Event Calendar 2.0//EN
METHOD:PUBLISH
X-PUBLISHED-TTL:P3D
REFRESH-INTERVAL:P3D
CALSCALE:GREGORIAN
BEGIN:VEVENT
DTSTART:20160528T170000Z
DTEND:20160529T010000Z
X-MICROSOFT-CDO-ALLDAYEVENT:FALSE
SUMMARY:Santee Street Fair 2016
DESCRIPTION:This is a free\, public event featuring vendor booths\, food\, and entertainment. \n\nThese categories are now CLOSED: \n\n	DOTERRA\n	 FACE PAINTING\n	 GARLIC GRATERS\n	HENNA\n	JAMBERRY\n	LULAROE\n	MARY KAY\n	ORIGAMI OWL\n	SOLAR\n	SUNGLASSES\n	THIRTY-ONE\n	TUPPERWARE\n	 YOUNIQUE\n\nVendor Information: \n\nFOOD VENDORS ARE BY INVITATION ONLY! Do not signup on this page if you are a food vendor. \n\n\n	\n	Only one 10x10 or 10x20 booth space may be purchased by each vendor. \n\n	\n\n	All vendors must check in by 8AM or risk forfeiting their booth. NO REFUNDS will be given. All cars must be off the street by 9A.M.\n	\n	\n	Sharing booth space is not permitted\, only one organization or business per vendor space is allowed.\n	\n	\n	The sale of firearms\, tobacco\, tobacco/drug paraphernalia\, alcohol\, or any other item that promotes the use of illicit substance is prohibited.
X-ALT-DESC;FMTTYPE=text/html:This is a free\, public event featuring vendor booths\, food\, and entertainment.&nbsp\;<br />\nThese categories are now CLOSED:&nbsp\;\n<ul>\n	<li>DOTERRA</li>\n	<li>&#8203\;FACE PAINTING</li>\n	<li>&#8203\;GARLIC GRATERS</li>\n	<li>HENNA</li>\n	<li>JAMBERRY</li>\n	<li>LULAROE</li>\n	<li>MARY KAY</li>\n	<li>ORIGAMI OWL</li>\n	<li>SOLAR</li>\n	<li>SUNGLASSES</li>\n	<li>THIRTY-ONE</li>\n	<li>TUPPERWARE</li>\n	<li>&#8203\;YOUNIQUE</li>\n</ul>\nVendor Information:&nbsp\;<br />\n<span style="color: rgb(100\, 118\, 120)\; font-family: Arial\, Helvetica\, sans-serif\; font-size: 12px\; line-height: 17.4px\; background-color: rgb(255\, 255\, 255)\;">FOOD VENDORS ARE BY INVITATION ONLY! Do not signup on this page if you are a food vendor.&nbsp\;</span>\n\n<ul style="margin: 0px\; padding-right: 0px\; padding-left: 0px\; list-style: none\; color: rgb(100\, 118\, 120)\; font-family: Arial\, Helvetica\, sans-serif\; font-size: 12px\; line-height: 17.4px\;">\n	<li style="margin: 0px 0px 14px\; padding: 0px\;">\n	<p style="margin: 4px 0px 0px\; padding: 0px\; width: 533.109px\;">Only one 10x10 or 10x20 booth space&nbsp\;may be purchased by each&nbsp\;vendor.&nbsp\;<br />\n	<br />\n	All vendors must check in by 8AM or risk forfeiting their booth. NO REFUNDS will be given. All cars must be off the street by 9A.M.</p>\n	</li>\n	<li style="margin: 0px 0px 14px\; padding: 0px\;">\n	<p style="margin: 4px 0px 0px\; padding: 0px\; width: 533.109px\;">Sharing booth space is not permitted\, only one organization or business per vendor space is allowed.</p>\n	</li>\n	<li style="margin: 0px 0px 14px\; padding: 0px\;">\n	<p style="margin: 4px 0px 0px\; padding: 0px\; width: 533.109px\;">The sale of firearms\, tobacco\, tobacco/drug paraphernalia\, alcohol\, or any other item that promotes the use of illicit substance is prohibited.</p>\n	</li>\n</ul>\n
LOCATION:Riverview Parkway and Town Center Parkway
UID:e.2538.2555
SEQUENCE:3
DTSTAMP:20260425T182931Z
URL:https://santeechamber.com/events/details/santee-street-fair-2016-05-28-2016-2555
END:VEVENT

END:VCALENDAR
