BEGIN:VCALENDAR
VERSION:2.0
PRODID:-//ChamberMaster//Event Calendar 2.0//EN
METHOD:PUBLISH
X-PUBLISHED-TTL:P3D
REFRESH-INTERVAL:P3D
CALSCALE:GREGORIAN
BEGIN:VEVENT
DTSTART:20181014T150000Z
DTEND:20181015T010000Z
X-MICROSOFT-CDO-ALLDAYEVENT:FALSE
SUMMARY:Santee OTL 2018
DESCRIPTION:All day Over The Line tournament for players 16 and older!\n\n24 courts / 5 Divisions \n\nMen's Advanced - Big Ball\n\nMen's Masters (45+) - Big Ball\n\nMen's Local - Big Ball\n\nWomen's Open - Small Ball\n\nCo-Ed Open - Small Ball\n\n3 Game Guarantee per Team\n\n\n\n* 4 team minimum per division\, or some divisions may be combined *
X-ALT-DESC;FMTTYPE=text/html:All day Over The Line tournament for players 16 and older!<br />\n24 courts / 5 Divisions&nbsp\;<br />\nMen&#39\;s Advanced - Big Ball<br />\nMen&#39\;s Masters (45+) - Big Ball<br />\nMen&#39\;s Local - Big Ball<br />\nWomen&#39\;s Open - Small Ball<br />\nCo-Ed Open - Small Ball<br />\n3 Game Guarantee per Team<br />\n<br />\n* 4 team minimum per division\, or some divisions may be combined *
LOCATION:Town Center Community Park East 550 Park Center Drive Santee\, CA 92071
UID:e.2538.3088
SEQUENCE:3
DTSTAMP:20260423T210832Z
URL:https://santeechamber.com/events/details/santee-otl-2018-3088
END:VEVENT

END:VCALENDAR
