BEGIN:VCALENDAR
VERSION:2.0
PRODID:-//ChamberMaster//Event Calendar 2.0//EN
METHOD:PUBLISH
X-PUBLISHED-TTL:P3D
REFRESH-INTERVAL:P3D
CALSCALE:GREGORIAN
BEGIN:VEVENT
DTSTART:20171022T150000Z
DTEND:20171023T010000Z
X-MICROSOFT-CDO-ALLDAYEVENT:FALSE
SUMMARY:Santee OTL 2017
DESCRIPTION:All day Over The Line tournament for youth and adults!\n\n24 courts / 4 Divisions \n\nMen - Big Ball\n\nWomen - Small Ball\n\nYouth - Big Ball\n\n3 Game Guarantee per Team
X-ALT-DESC;FMTTYPE=text/html:All day Over The Line tournament for youth and adults!<br>\n24 courts / 4 Divisions&nbsp\;<br>\nMen - Big Ball<br>\nWomen - Small Ball<br>\nYouth -&nbsp\;Big&nbsp\;Ball<br>\n3 Game Guarantee per Team
LOCATION:Town Center Community Park East 550 Park Center Drive Santee\, CA 92071
UID:e.2538.3022
SEQUENCE:3
DTSTAMP:20260424T162155Z
URL:https://santeechamber.com/events/details/santee-otl-2017-3022
END:VEVENT

END:VCALENDAR
