BEGIN:VCALENDAR
VERSION:2.0
PRODID:-//ChamberMaster//Event Calendar 2.0//EN
METHOD:PUBLISH
X-PUBLISHED-TTL:P3D
REFRESH-INTERVAL:P3D
CALSCALE:GREGORIAN
BEGIN:VEVENT
DTSTART:20191228T154500Z
DTEND:20191228T183000Z
X-MICROSOFT-CDO-ALLDAYEVENT:FALSE
SUMMARY:Santee Lions Club - Pancake Breakfast Santee Lakes Clubhouse
DESCRIPTION:COME ENJOY A PANCAKE BREAKFAST CONSISTING OF PANCAKES\, SCRAMBLED EGGS AND SAUSAGE PATTIES OR BISCUITS AND GRAVY WITH SCRAMBLED EGGS  ALL FOR 6.00$ PER PLATE ($4.00 CHILDREN 10 & UNDER) COFFEE AND ORANGE JUICE INCLUDED IN PRICE.
X-ALT-DESC;FMTTYPE=text/html:COME ENJOY A PANCAKE BREAKFAST CONSISTING OF PANCAKES\, SCRAMBLED EGGS AND SAUSAGE PATTIES <strong>OR</strong> BISCUITS AND GRAVY WITH SCRAMBLED EGGS&nbsp\; ALL FOR 6.00$ PER PLATE ($4.00 CHILDREN 10 &amp\; UNDER) COFFEE AND ORANGE JUICE INCLUDED IN PRICE.
LOCATION:CLUB HOUSE SANTEE LAKES PARK
UID:e.2538.2737
SEQUENCE:3
DTSTAMP:20260423T093910Z
URL:https://santeechamber.com/events/details/santee-lions-club-pancake-breakfast-santee-lakes-clubhouse-12-28-2019-2737
END:VEVENT

END:VCALENDAR
