BEGIN:VCALENDAR
VERSION:2.0
PRODID:-//ChamberMaster//Event Calendar 2.0//EN
METHOD:PUBLISH
X-PUBLISHED-TTL:P3D
REFRESH-INTERVAL:P3D
CALSCALE:GREGORIAN
BEGIN:VEVENT
DTSTART;VALUE=DATE:20160604
DTEND;VALUE=DATE:20160605
TRANSP:TRANSPARENT
X-MICROSOFT-CDO-ALLDAYEVENT:TRUE
SUMMARY:Santee Kiwanis Jr. Olympic Track Meet
DESCRIPTION:Featuring Santee Schools Grades 4-8\n\nJune 4th at 7:30am\n\nSantana High School\n\n \n\nVOLUNTEERS/SPONSORS NEEDED\n\nEmail Paul Stevens at pstevens.nhasf@cox.net for ways you can help!
X-ALT-DESC;FMTTYPE=text/html:<div style="font-family: Georgia\, 'Times New Roman'\, Times\, serif\; font-size: 14.6667px\; line-height: normal\; text-align: -webkit-center\;">Featuring Santee Schools Grades 4-8</div>\n\n<div style="font-family: Georgia\, 'Times New Roman'\, Times\, serif\; font-size: 14.6667px\; line-height: normal\; text-align: -webkit-center\;">June 4th at 7:30am</div>\n\n<div style="font-family: Georgia\, 'Times New Roman'\, Times\, serif\; font-size: 14.6667px\; line-height: normal\; text-align: -webkit-center\;">Santana High School</div>\n\n<div style="font-family: Georgia\, 'Times New Roman'\, Times\, serif\; font-size: 14.6667px\; line-height: normal\; text-align: -webkit-center\;">&nbsp\;</div>\n\n<div style="font-family: Georgia\, 'Times New Roman'\, Times\, serif\; font-size: 14.6667px\; line-height: normal\; text-align: -webkit-center\;">VOLUNTEERS/SPONSORS NEEDED</div>\n\n<div style="font-family: Georgia\, 'Times New Roman'\, Times\, serif\; font-size: 14.6667px\; line-height: normal\; text-align: -webkit-center\;">Email Paul Stevens at&nbsp\;<a _mce_href="mailto:pstevens.nhasf@cox.net" _mce_style="color: #0000ff !important\; text-decoration: underline !important\;" href="mailto:pstevens.nhasf@cox.net" linktype="2" style="color: rgb(0\, 0\, 255) !important\;" target="_blank">pstevens.nhasf@cox.net</a>&nbsp\;for ways you can help!</div>\n
LOCATION:
UID:e.2538.2840
SEQUENCE:3
DTSTAMP:20260425T170522Z
URL:https://santeechamber.com/events/details/santee-kiwanis-jr-olympic-track-meet-06-04-2016-2840
END:VEVENT

END:VCALENDAR
