BEGIN:VCALENDAR
VERSION:2.0
PRODID:-//ChamberMaster//Event Calendar 2.0//EN
METHOD:PUBLISH
X-PUBLISHED-TTL:P3D
REFRESH-INTERVAL:P3D
CALSCALE:GREGORIAN
BEGIN:VEVENT
DTSTART:20181117T013000Z
DTEND:20181117T043000Z
X-MICROSOFT-CDO-ALLDAYEVENT:FALSE
SUMMARY:Santee Holiday Lighting Celebration
DESCRIPTION:
X-ALT-DESC;FMTTYPE=text/html:
LOCATION:Santee Trolley Square 9884 Mission Gorge Road
UID:e.2538.3045
SEQUENCE:3
DTSTAMP:20260423T172324Z
URL:https://santeechamber.com/events/details/santee-holiday-lighting-celebration-3045
END:VEVENT

END:VCALENDAR
