BEGIN:VCALENDAR
VERSION:2.0
PRODID:-//ChamberMaster//Event Calendar 2.0//EN
METHOD:PUBLISH
X-PUBLISHED-TTL:P3D
REFRESH-INTERVAL:P3D
CALSCALE:GREGORIAN
BEGIN:VEVENT
DTSTART:20200925T183000Z
DTEND:20200925T203000Z
X-MICROSOFT-CDO-ALLDAYEVENT:FALSE
SUMMARY:Santee Heroes Luncheon 2020
DESCRIPTION:** NOTICE**\n\nEvent moved to 9/25 and details will be announced by 8/21 \n\n\n\n\n\nA gathering of Santee organizations\, Community Leaders\, and Elected Officials to receive local honors and celebrate Santee Chamber?s 2019 Person of the Year!
X-ALT-DESC;FMTTYPE=text/html:<span data-offset-key="1ns26-0-0"><span data-text="true">** NOTICE**</span></span><br>\n<font face="arial"><span style="font-size: 14px\;">Event moved to 9/25 and details will be announced by 8/21&nbsp\;</span></font><br>\n<br>\n<br>\n<span data-offset-key="1ns26-0-0"><span data-text="true">A gathering of Santee organizations\, Community Leaders\, and Elected Officials to receive local honors and celebrate Santee Chamber?s 2019 Person of the Year!</span></span>
LOCATION:Carlton Oaks Golf Course 9200 Inwood Drive Santee\, CA 92071
UID:e.2538.3495
SEQUENCE:3
DTSTAMP:20260422T134319Z
URL:https://santeechamber.com/events/details/santee-heroes-luncheon-2020-3495
END:VEVENT

END:VCALENDAR
