BEGIN:VCALENDAR
VERSION:2.0
PRODID:-//ChamberMaster//Event Calendar 2.0//EN
METHOD:PUBLISH
X-PUBLISHED-TTL:P3D
REFRESH-INTERVAL:P3D
CALSCALE:GREGORIAN
BEGIN:VEVENT
DTSTART:20190329T183000Z
DTEND:20190329T203000Z
X-MICROSOFT-CDO-ALLDAYEVENT:FALSE
SUMMARY:Santee Heroes Luncheon 2019
DESCRIPTION:A gathering of Santee organizations\, Community Leaders\, and Elected Officials to receive local honors and celebrate Santee Chamber's 2018 Person of the Year\, Buddy Rabaya!
X-ALT-DESC;FMTTYPE=text/html:<span data-offset-key="1ns26-0-0"><span data-text="true">A gathering of Santee organizations\, Community Leaders\, and Elected Officials to receive local honors and celebrate Santee Chamber&rsquo\;s 2018 Person of the Year\, Buddy Rabaya!</span></span>
LOCATION:Carlton Oaks Golf Course 9200 Inwood Drive Santee\, CA 92071
UID:e.2538.3280
SEQUENCE:3
DTSTAMP:20260423T112115Z
URL:https://santeechamber.com/events/details/santee-heroes-luncheon-2019-3280
END:VEVENT

END:VCALENDAR
