BEGIN:VCALENDAR
VERSION:2.0
PRODID:-//ChamberMaster//Event Calendar 2.0//EN
METHOD:PUBLISH
X-PUBLISHED-TTL:P3D
REFRESH-INTERVAL:P3D
CALSCALE:GREGORIAN
BEGIN:VEVENT
DTSTART:20191102T180000Z
DTEND:20191103T000000Z
X-MICROSOFT-CDO-ALLDAYEVENT:FALSE
SUMMARY:SANTEE FALL FAIR 2019
DESCRIPTION:* To register for a vendor booth please call our office staff at 619.449.1515 *\n\nThis is a free\, public event featuring vendor booths\, food\, and entertainment. \n\n\n\nVendor Information: \n\nFOOD VENDORS ARE BY INVITATION ONLY! Do not signup on this page if you are a food vendor. \n\n	\n	Only one 10x10 or 10x20 booth space may be purchased by each vendor. \n\n	\n\n	\n\n	All vendors must check in by 9AM or risk forfeiting their booth.\n\n	NO REFUNDS will be given. All cars must be off the street by 10AM\n	\n	\n	Sharing booth space is not permitted\, only one organization or\n\n	business per vendor space is allowed.\n	\n	\n	The sale of firearms\, tobacco\, tobacco/drug paraphernalia\, alcohol\, or\n\n	any other item that promotes the use of illicit substance is prohibited.
X-ALT-DESC;FMTTYPE=text/html:<span style="font-size: 12px\;"><span style="font-family: arial\;"><span style="font-size:14px\;"><span style="color:#FF0000\;"><strong>* To register for a vendor booth please call our office staff at 619.449.1515 *</strong></span></span><br />\nThis is a free\, public event featuring vendor booths\, food\, and entertainment.&nbsp\;<br />\n<br />\n<strong>Vendor Information:&nbsp\;</strong><br />\n<span style="color: rgb(255\, 0\, 0)\;"><span style="line-height: 17.4px\; background-color: rgb(255\, 255\, 255)\;">FOOD VENDORS ARE BY INVITATION ONLY!</span></span><span style="color: rgb(0\, 0\, 0)\;"><span style="line-height: 17.4px\; background-color: rgb(255\, 255\, 255)\;"> Do not signup on this page if you are a food vendor.&nbsp\;</span></span></span></span>\n<ul style="list-style: none\; margin: 0px\; color: rgb(100\, 118\, 120)\; line-height: 17.4px\; padding-right: 0px\; padding-left: 0px\; font-family: Arial\, Helvetica\, sans-serif\; font-size: 12px\;">\n	<li style="margin: 0px 0px 14px\; padding: 0px\;">\n	<p style="margin: 4px 0px 0px\; padding: 0px\; width: 533.1px\;"><span style="font-size: 12px\;"><span style="font-family: arial\;"><span style="color: rgb(0\, 0\, 0)\;">Only one 10x10 or 10x20 booth space&nbsp\;may be purchased by each&nbsp\;vendor.&nbsp\;</span><br />\n	<br />\n	<br />\n	<span style="color: rgb(0\, 0\, 0)\;">All vendors must check in by 9AM or risk forfeiting their booth.<br />\n	NO REFUNDS will be given. All cars must be off the street by 10AM</span></span></span></p>\n	</li>\n	<li style="margin: 0px 0px 14px\; padding: 0px\;">\n	<p style="margin: 4px 0px 0px\; padding: 0px\; width: 533.1px\;"><span style="font-size: 12px\;"><span style="font-family: arial\;"><span style="color: rgb(0\, 0\, 0)\;">Sharing booth space is not permitted\, only one organization or<br />\n	business per vendor space is allowed.</span></span></span></p>\n	</li>\n	<li style="margin: 0px 0px 14px\; padding: 0px\;">\n	<p style="margin: 4px 0px 0px\; padding: 0px\; width: 533.1px\;"><span style="font-size: 12px\;"><span style="font-family: arial\;"><span style="color: rgb(0\, 0\, 0)\;">The sale of firearms\, tobacco\, tobacco/drug paraphernalia\, alcohol\, or<br />\n	any other item that promotes the use of illicit substance is prohibited.</span></span></span></p>\n	</li>\n</ul>\n
LOCATION:Riverview Parkway east of Trolley Square
UID:e.2538.3492
SEQUENCE:3
DTSTAMP:20260423T080419Z
URL:https://santeechamber.com/events/details/santee-fall-fair-2019-3492
END:VEVENT

END:VCALENDAR
