BEGIN:VCALENDAR
VERSION:2.0
PRODID:-//ChamberMaster//Event Calendar 2.0//EN
METHOD:PUBLISH
X-PUBLISHED-TTL:P3D
REFRESH-INTERVAL:P3D
CALSCALE:GREGORIAN
BEGIN:VEVENT
DTSTART:20230427T003000Z
DTEND:20230427T020000Z
X-MICROSOFT-CDO-ALLDAYEVENT:FALSE
SUMMARY:Santee Community Coffee Town Hall
DESCRIPTION:Attention Santee Residents   mark your calendars for April 26th!\n\nSupervisor Joel Anderson is hosting a FREE Community Coffee Town Hall meeting at the Carlton Oaks Country Club with the Santee Chamber of Commerce.\n\nTake this opportunity to discuss the issues that are most important to you and your family.\n\nRSVP no later than April 24th by calling Supervisor Anderson's office at 619-531-5522.
X-ALT-DESC;FMTTYPE=text/html:<div class="x11i5rnm xat24cr x1mh8g0r x1vvkbs xdj266r" style="margin: 0px\; overflow-wrap: break-word\; font-family: system-ui\, -apple-system\, &quot\;system-ui&quot\;\, &quot\;.SFNSText-Regular&quot\;\, sans-serif\; color: rgb(5\, 5\, 5)\; font-size: 15px\;">Attention Santee Residents &ndash\; mark your calendars for April 26th!<br />\nSupervisor Joel Anderson is hosting a FREE Community Coffee Town Hall meeting at the Carlton Oaks Country Club with the Santee Chamber of Commerce.</div>\n\n<div class="x11i5rnm xat24cr x1mh8g0r x1vvkbs xtlvy1s" style="margin: 0.5em 0px 0px\; overflow-wrap: break-word\; font-family: system-ui\, -apple-system\, &quot\;system-ui&quot\;\, &quot\;.SFNSText-Regular&quot\;\, sans-serif\; color: rgb(5\, 5\, 5)\; font-size: 15px\;">Take this opportunity to discuss the issues that are most important to you and your family.</div>\n\n<div class="x11i5rnm xat24cr x1mh8g0r x1vvkbs xtlvy1s" style="margin: 0.5em 0px 0px\; overflow-wrap: break-word\; font-family: system-ui\, -apple-system\, &quot\;system-ui&quot\;\, &quot\;.SFNSText-Regular&quot\;\, sans-serif\; color: rgb(5\, 5\, 5)\; font-size: 15px\;">RSVP no later than April 24th by calling Supervisor Anderson&rsquo\;s office at 619-531-5522.</div>\n
LOCATION:Carlton Oaks Country Club 9200 Inwood Dr. Santee\, CA 92071
UID:e.2538.4838
SEQUENCE:3
DTSTAMP:20260419T141301Z
URL:https://santeechamber.com/events/details/santee-community-coffee-town-hall-4838
END:VEVENT

END:VCALENDAR
