BEGIN:VCALENDAR
VERSION:2.0
PRODID:-//ChamberMaster//Event Calendar 2.0//EN
METHOD:PUBLISH
X-PUBLISHED-TTL:P3D
REFRESH-INTERVAL:P3D
CALSCALE:GREGORIAN
BEGIN:VEVENT
DTSTART:20191011T003000Z
DTEND:20191011T023000Z
X-MICROSOFT-CDO-ALLDAYEVENT:FALSE
SUMMARY:Santee Chamber- October Business After 5 Mixer
DESCRIPTION:Join us for the October Business After 5 Mixer at Phil's BBQ in Santee. There will be amazing BBQ appetizers and drink specials! You won't want to miss this event.\n\nDon't forget your business cards!
X-ALT-DESC;FMTTYPE=text/html:Join us for the&nbsp\;October Business After 5 Mixer at Phil&#39\;s BBQ in Santee. There will be amazing BBQ appetizers and drink specials! You won&#39\;t want to miss this event.<br />\nDon&#39\;t forget your business cards!
LOCATION:Phil's BBQ Santee 9816 Mission Gorge Rd. Santee\, CA 92071
UID:e.2538.3490
SEQUENCE:3
DTSTAMP:20260423T064521Z
URL:https://santeechamber.com/events/details/santee-chamber-october-business-after-5-mixer-3490
END:VEVENT

END:VCALENDAR
