BEGIN:VCALENDAR
VERSION:2.0
PRODID:-//ChamberMaster//Event Calendar 2.0//EN
METHOD:PUBLISH
X-PUBLISHED-TTL:P3D
REFRESH-INTERVAL:P3D
CALSCALE:GREGORIAN
BEGIN:VEVENT
DTSTART:20190924T150000Z
DTEND:20190924T160000Z
X-MICROSOFT-CDO-ALLDAYEVENT:FALSE
SUMMARY:Santee Chamber Employee Harassment Prevention Training
DESCRIPTION:As of January 1\, 2019 all California businesses with five (5) or more employees MUST go through harassment and discrimination training every 2 years (SB1343) before January 1\, 2020. \n\nThe Santee Chamber is here to help you and your employees become compliant! Don't miss out on this beneficial opportunity!
X-ALT-DESC;FMTTYPE=text/html:<p class="direction-ltr align-center para-style-body" style="color: rgb(0\, 0\, 0)\; text-transform: none\; line-height: 1.4\; font-family: &quot\;YACgEZ1cb1Q 0&quot\;\, _fb_\, auto\; font-size: 21.33px\;"><span style="font-size: 12px\;"><span style="font-family: arial\;"><span style="color: rgb(0\, 0\, 0)\; text-decoration: none\;">As of January 1\, 2019 all California businesses with five (5) or more employees MUST go through harassment and discrimination training every 2 years&nbsp\;(SB1343) before January 1\, 2020.&nbsp\;<br />\nThe Santee Chamber is here to help you and your employees become compliant! Don&#39\;t miss out on this beneficial opportunity! </span></span></span></p>\n
LOCATION:Santee Chamber of Commerce 10159 Mission Gorge Road\, Suite F Santee\, CA 92071
UID:e.2538.3483
SEQUENCE:3
DTSTAMP:20260423T045515Z
URL:https://santeechamber.com/events/details/santee-chamber-employee-harassment-prevention-training-3483
END:VEVENT

END:VCALENDAR
