BEGIN:VCALENDAR
VERSION:2.0
PRODID:-//ChamberMaster//Event Calendar 2.0//EN
METHOD:PUBLISH
X-PUBLISHED-TTL:P3D
REFRESH-INTERVAL:P3D
CALSCALE:GREGORIAN
BEGIN:VEVENT
DTSTART:20191022T160000Z
DTEND:20191022T170000Z
X-MICROSOFT-CDO-ALLDAYEVENT:FALSE
SUMMARY:Santee Chamber - Chamber 101
DESCRIPTION:Learn why business owners can benefit from becoming a Chamber member\, how the Chamber acts as a resource and going over our website and all of its abilities!
X-ALT-DESC;FMTTYPE=text/html:Learn why business owners can benefit from becoming a Chamber member\, how the Chamber acts as a resource and going over our website and all of its abilities!
LOCATION:Santee Chamber of Commerce 10159 Mission Gorge Road\, Suite F Santee\, CA 92071
UID:e.2538.3478
SEQUENCE:3
DTSTAMP:20260423T064557Z
URL:https://santeechamber.com/events/details/santee-chamber-chamber-101-10-22-2019-3478
END:VEVENT

END:VCALENDAR
