BEGIN:VCALENDAR
VERSION:2.0
PRODID:-//ChamberMaster//Event Calendar 2.0//EN
METHOD:PUBLISH
X-PUBLISHED-TTL:P3D
REFRESH-INTERVAL:P3D
CALSCALE:GREGORIAN
BEGIN:VEVENT
DTSTART:20200221T020000Z
DTEND:20200221T050000Z
X-MICROSOFT-CDO-ALLDAYEVENT:FALSE
SUMMARY:Santee Chamber Business Awards Night 2020
DESCRIPTION:An annual celebration for Chamber Members and Business Leaders to network and honor "Santee's Favorites" contest winners and exclusive business honorees.
X-ALT-DESC;FMTTYPE=text/html:<span style="color: rgb(47\, 47\, 44)\;">An annual celebration for Chamber Members and Business Leaders to network&nbsp\;and honor &quot\;Santee&rsquo\;s Favorites&quot\; contest winners and exclusive business honorees.</span>
LOCATION:Barona Resort & Casino Golf Events Center 1932 Wildcat Canyon Road Lakeside\, CA 92040
UID:e.2538.3514
SEQUENCE:3
DTSTAMP:20260425T131455Z
URL:https://santeechamber.com/events/details/santee-chamber-business-awards-night-2020-3514
END:VEVENT

END:VCALENDAR
