BEGIN:VCALENDAR
VERSION:2.0
PRODID:-//ChamberMaster//Event Calendar 2.0//EN
METHOD:PUBLISH
X-PUBLISHED-TTL:P3D
REFRESH-INTERVAL:P3D
CALSCALE:GREGORIAN
BEGIN:VEVENT
DTSTART:20190822T003000Z
DTEND:20190822T023000Z
X-MICROSOFT-CDO-ALLDAYEVENT:FALSE
SUMMARY:Santee Chamber - August Business After 5 Mixer
DESCRIPTION:Join the Santee Chamber for the August Business After 5 Mixer at Sportsplex USA in Santee. These event will be filled with food\, music and great networking opportunities! Don't miss out on making business connections.
X-ALT-DESC;FMTTYPE=text/html:Join the Santee Chamber for the&nbsp\;August Business After 5 Mixer at Sportsplex USA in Santee. These event will be filled with&nbsp\;food\, music and great networking opportunities! Don&#39\;t miss out on making business connections.
LOCATION:Sportsplex USA 9951 Riverwalk Dr. Santee\, CA 92071
UID:e.2538.3474
SEQUENCE:3
DTSTAMP:20260423T045628Z
URL:https://santeechamber.com/events/details/santee-chamber-august-business-after-5-mixer-3474
END:VEVENT

END:VCALENDAR
