BEGIN:VCALENDAR
VERSION:2.0
PRODID:-//ChamberMaster//Event Calendar 2.0//EN
METHOD:PUBLISH
X-PUBLISHED-TTL:P3D
REFRESH-INTERVAL:P3D
CALSCALE:GREGORIAN
BEGIN:VEVENT
DTSTART:20180916T003000Z
DTEND:20180916T043000Z
X-MICROSOFT-CDO-ALLDAYEVENT:FALSE
SUMMARY:Santee Bluegrass Festival
DESCRIPTION:
X-ALT-DESC;FMTTYPE=text/html:
LOCATION:Town Center Community Park East 550 Park Center Drive
UID:e.2538.3044
SEQUENCE:3
DTSTAMP:20260423T221041Z
URL:https://santeechamber.com/events/details/santee-bluegrass-festival-3044
END:VEVENT

END:VCALENDAR
