BEGIN:VCALENDAR
VERSION:2.0
PRODID:-//ChamberMaster//Event Calendar 2.0//EN
METHOD:PUBLISH
X-PUBLISHED-TTL:P3D
REFRESH-INTERVAL:P3D
CALSCALE:GREGORIAN
BEGIN:VEVENT
DTSTART:20180120T170000Z
DTEND:20180120T210000Z
X-MICROSOFT-CDO-ALLDAYEVENT:FALSE
SUMMARY:Santee Active Lifestyle Expo
DESCRIPTION:
X-ALT-DESC;FMTTYPE=text/html:
LOCATION:Santee Trolley Square 9884 Mission Gorge Road
UID:e.2538.3030
SEQUENCE:3
DTSTAMP:20260424T105716Z
URL:https://santeechamber.com/events/details/santee-active-lifestyle-expo-3030
END:VEVENT

END:VCALENDAR
