BEGIN:VCALENDAR
VERSION:2.0
PRODID:-//ChamberMaster//Event Calendar 2.0//EN
METHOD:PUBLISH
X-PUBLISHED-TTL:P3D
REFRESH-INTERVAL:P3D
CALSCALE:GREGORIAN
BEGIN:VEVENT
DTSTART:20180720T200000Z
DTEND:20180721T010000Z
X-MICROSOFT-CDO-ALLDAYEVENT:FALSE
SUMMARY:San-Tee Golf Tournament 2018
DESCRIPTION:Join the Santee Chamber of Commerce at our 3rd annual San-Tee Golf Tournament. It will be an amazing day of fun with 18 holes of golf\, a margarita station\, boxed lunch\, business networking and a south of the border dinner during the awards ceremony. We will have a hole-in-one opportunity\, raffles\, awards\, and more! \n\nDate: July 20\, 2018 // Format: 4 Person Scramble\n\nCheck In: 11:00am // Shot Gun Start: 1:00pm\n\nGeneral - Individual Golfer: $175 // Foursome: $600\n\nChamber Member - Individual Golfer: $150 // Foursome: $500\n\n\n\nNo outside alcohol will be permitted at this event.
X-ALT-DESC;FMTTYPE=text/html:Join the Santee Chamber of Commerce at our 3rd&nbsp\;annual San-Tee Golf Tournament. It will be an amazing day of fun with 18 holes of golf\, a margarita station\, boxed lunch\, business networking and a south of the border dinner during the awards ceremony.&nbsp\;We will have a hole-in-one opportunity\, raffles\, awards\, and more!&nbsp\;<br />\n<strong>Date</strong>: July 20\, 2018 //<strong> Format</strong>: 4 Person Scramble<br />\n<strong>Check In</strong>: 11:00am // <strong>Shot Gun Start</strong>: 1:00pm<br />\n<strong><span style="color: rgb(255\, 0\, 0)\;">General</span> - Individual Golfer</strong>: $175 // <strong>Foursome</strong>: $600<br />\n<strong><span style="color: rgb(255\, 0\, 0)\;">Chamber Member</span> - Individual</strong><strong> Golfer</strong>: $150 //&nbsp\;<strong>Foursome</strong>: $500<br />\n<br />\n<span style="color: rgb(255\, 0\, 0)\;"><strong>No outside alcohol will be permitted at this event.&nbsp\;</strong></span><br />\n<br />\n<br />\n<br />\n&nbsp\;
LOCATION:Sycuan Golf Resort Pine Glen Course 3007 Dehesa Rd\, El Cajon\, CA 92019
UID:e.2538.3074
SEQUENCE:3
DTSTAMP:20260424T031312Z
URL:https://santeechamber.com/events/details/san-tee-golf-tournament-2018-3074
END:VEVENT

END:VCALENDAR
