BEGIN:VCALENDAR
VERSION:2.0
PRODID:-//ChamberMaster//Event Calendar 2.0//EN
METHOD:PUBLISH
X-PUBLISHED-TTL:P3D
REFRESH-INTERVAL:P3D
CALSCALE:GREGORIAN
BEGIN:VEVENT
DTSTART:20170428T180000Z
DTEND:20170429T000000Z
X-MICROSOFT-CDO-ALLDAYEVENT:FALSE
SUMMARY:San-Tee Golf Tournament 2017
DESCRIPTION:Join the Santee Chamber of Commerce at our 2nd annual San-Tee Golf Tournament. It will be an amazing day of fun with 18 holes of golf\, a vodka bar\, taco station lunch\, business networking and a prime rib dinner during the awards ceremony. We will have a hole-in-one opportunity\, raffles\, awards\, and more! \n\nDate: April 28\, 2017 // Format: 4 Person Scramble\n\nCheck In: 9:00am // Shot Gun Start: 11:00am\n\nIndividual Golfer: $175 // Foursome: $600\n\n\n\nNo outside alcohol will be permitted at this event.
X-ALT-DESC;FMTTYPE=text/html:Join the Santee Chamber of Commerce at our 2nd annual San-Tee Golf Tournament. It will be an amazing day of fun with 18 holes of golf\, a vodka bar\, taco station lunch\, business networking and a prime rib dinner during the awards ceremony.&nbsp\;We will have a hole-in-one opportunity\, raffles\, awards\, and more!&nbsp\;<br />\n<strong>Date</strong>: April 28\, 2017 //<strong> Format</strong>: 4 Person Scramble<br />\n<strong>Check In</strong>: 9:00am // <strong>Shot Gun Start</strong>: 11:00am<br />\n<strong>Individual Golfer</strong>: $175 // <strong>Foursome</strong>: $600<br />\n<br />\n<span style="color:#FF0000\;"><strong>No outside alcohol will be permitted at this event.&nbsp\;</strong></span><br />\n<br />\n<br />\n<br />\n&nbsp\;
LOCATION:Sycuan Golf Resort 3007 Dehesa Rd\, El Cajon\, CA 92019
UID:e.2538.2874
SEQUENCE:3
DTSTAMP:20260425T012550Z
URL:https://santeechamber.com/events/details/san-tee-golf-tournament-2017-2874
END:VEVENT

END:VCALENDAR
