BEGIN:VCALENDAR
VERSION:2.0
PRODID:-//ChamberMaster//Event Calendar 2.0//EN
METHOD:PUBLISH
X-PUBLISHED-TTL:P3D
REFRESH-INTERVAL:P3D
CALSCALE:GREGORIAN
BEGIN:VEVENT
DTSTART:20160427T190000Z
DTEND:20160428T000000Z
X-MICROSOFT-CDO-ALLDAYEVENT:FALSE
SUMMARY:San-Tee Golf Tournament 2016
DESCRIPTION:Join the Santee Chamber of Commerce at the first ever "San-Tee Golf Tournament." It will be an amazing day of fun with 18 holes of golf\, a box lunch\, business networking\, and a tri-tip barbecue dinner during the awards ceremony. \n\n\n\nWe will also have a $15\,000 hole-in-one opportunity\, raffles\, and awards for longest drive and closest to pin! \n\n\n\nRegistration begins at 12pm and tee-off will be at 1pm.
X-ALT-DESC;FMTTYPE=text/html:Join the&nbsp\;Santee Chamber of Commerce at the&nbsp\;first ever &quot\;San-Tee Golf Tournament.&quot\; It will be an amazing day of fun with&nbsp\;<span style="line-height: 20.8px\;">18 holes of golf\, a box lunch\, business networking\, and a tri-tip barbecue dinner during the awards ceremony.&nbsp\;<br />\n<br />\nWe will also have a $15\,000 hole-in-one opportunity\, raffles\, and awards for longest drive and closest to pin!&nbsp\;<br />\n<br />\nRegistration begins at 12pm and tee-off will be at 1pm.&nbsp\;</span>
LOCATION:Steele Canyon Golf Club 3199 Stonefield Dr. Jamul\, CA 91935
UID:e.2538.2690
SEQUENCE:3
DTSTAMP:20260425T200034Z
URL:https://santeechamber.com/events/details/san-tee-golf-tournament-2016-04-27-2016-2690
END:VEVENT

END:VCALENDAR
