BEGIN:VCALENDAR
VERSION:2.0
PRODID:-//ChamberMaster//Event Calendar 2.0//EN
METHOD:PUBLISH
X-PUBLISHED-TTL:P3D
REFRESH-INTERVAL:P3D
CALSCALE:GREGORIAN
BEGIN:VEVENT
DTSTART:20180327T170000Z
DTEND:20180327T220000Z
X-MICROSOFT-CDO-ALLDAYEVENT:FALSE
SUMMARY:San Diego Christian College Career Fair
DESCRIPTION:Career Fair for students to have the opportunity to look for future careers. Business owners are able to promote their business to interested students.
X-ALT-DESC;FMTTYPE=text/html:Career Fair for students to have the opportunity to look for future careers. Business owners are able to promote their business to interested students.
LOCATION:San Diego Christian College Chapel and Breezeway
UID:e.2538.3051
SEQUENCE:3
DTSTAMP:20260424T075555Z
URL:https://santeechamber.com/events/details/san-diego-christian-college-career-fair-3051
END:VEVENT

END:VCALENDAR
