BEGIN:VCALENDAR
VERSION:2.0
PRODID:-//ChamberMaster//Event Calendar 2.0//EN
METHOD:PUBLISH
X-PUBLISHED-TTL:P3D
REFRESH-INTERVAL:P3D
CALSCALE:GREGORIAN
BEGIN:VEVENT
DTSTART:20191006T160000Z
DTEND:20191006T220000Z
X-MICROSOFT-CDO-ALLDAYEVENT:FALSE
SUMMARY:SD River Park Foundation - RiverBlitz: Hike & Collect Data
DESCRIPTION:Calling all volunteers with an interest in our River and a passion for the environment! Once a year\, volunteer teams use a smart phone app to document trash and storm water debris the San Diego River. This point-in-time data allows us to measure the health of the riparian ecosystem and plan our cleanup strategies for the next year.\n\n\n\nThis is a wonderful hands-on opportunity and a great way to make a difference for the future of the river and surrounding area. \n\n\n\nVolunteers should be comfortable with hiking short distances\, including going up and down embankments and ducking around and under vegetation. \n\n\n\nThis event has two shifts to choose from:\n\n\n\n1. 9 am - noon\n\n2. 1 pm - 3 pm\n\n\n\nPlease indicate which shift(s) you would like to attend when you RSVP.\n\n\n\n\n\nDetails:\n\n\n	Open to volunteers ages 14 and up.\n	All tools and supplies are provided. \n	No experience necessary - training will be provided.\n	Community service hours can be verified.\n	Be sure to dress in clothes that can get a little dirty and wear closed shoes\, no sandals or flip-flops allowed for safety reasons. \n	Bring plenty of water and sun protection.\n\n\n\nRSVP REQUIRED.  For more info and to RSVP\, call 619.297.7380 or email volunteer@sandiegoriver.org.
X-ALT-DESC;FMTTYPE=text/html:<strong><span style="color:#3C4043"><span style="font-family:arial\,sans-serif"><span style="font-size:10.5pt">Calling all volunteers with an interest in our River and a passion for the environment!</span></span></span></strong><span style="color:#3C4043"><span style="font-family:arial\,sans-serif"><span style="font-size:10.5pt"> Once a year\, volunteer teams use a smart phone app to document trash and storm water debris the San Diego River. This point-in-time data allows us to measure the health of the riparian ecosystem and plan our cleanup strategies for the next year.<br />\n<br />\nThis is a wonderful hands-on opportunity and a great way to make a difference for the future of the river and surrounding area.&nbsp\;<br />\n<br />\nVolunteers should be comfortable with hiking short distances\, including going up and down embankments and ducking around and under vegetation.&nbsp\;<br />\n<br />\nThis event has two shifts to choose from:<br />\n<br />\n1. 9 am - noon<br />\n2. 1 pm - 3 pm<br />\n<br />\nPlease indicate which shift(s) you would like to attend when you RSVP.<br />\n<br />\n<br />\n<strong>Details:</strong></span></span></span>\n\n<ul>\n	<li><span style="font-family:arial\,sans-serif"><span style="font-size:10.5pt">Open to volunteers ages 14 and up.</span></span></li>\n	<li><span style="font-family:arial\,sans-serif"><span style="font-size:10.5pt">All tools and supplies are provided. </span></span></li>\n	<li><span style="font-family:arial\,sans-serif"><span style="font-size:10.5pt">No experience necessary - training will be provided.</span></span></li>\n	<li><span style="font-family:arial\,sans-serif"><span style="font-size:10.5pt">Community service hours can be verified.</span></span></li>\n	<li><span style="font-family:arial\,sans-serif"><span style="font-size:10.5pt">Be sure to dress in clothes that can get a little dirty and wear closed shoes\, no sandals or flip-flops allowed for safety reasons. </span></span></li>\n	<li><span style="font-family:arial\,sans-serif"><span style="font-size:10.5pt">Bring plenty of water and sun protection.</span></span></li>\n</ul>\n<br />\n<span style="color:#3C4043"><span style="font-family:arial\,sans-serif"><span style="font-size:10.5pt"><strong>RSVP REQUIRED.&nbsp\;</strong> For more info and to RSVP\, call 619.297.7380 or email <a href="mailto:volunteer@sandiegoriver.org" target="_blank"><span style="color:#1A73E8">volunteer@sandiegoriver.org</span></a>.&nbsp\;</span></span></span>
LOCATION:Location: The approximate address is 170 Town Center Pkwy\, Santee\, CA 92071 (Walmart Parking Lot). Use this map link: https://goo.gl/tPNkXH Please drive into the Walmart parking lot. Park at the North East corner of the lot. Meet at the gazebo. Look for SDRPF sign or representative.
UID:e.2538.3489
SEQUENCE:3
DTSTAMP:20260423T064220Z
URL:https://santeechamber.com/events/details/riverblitz-hike-collect-data-10-06-2019-3489
END:VEVENT

END:VCALENDAR
