BEGIN:VCALENDAR
VERSION:2.0
PRODID:-//ChamberMaster//Event Calendar 2.0//EN
METHOD:PUBLISH
X-PUBLISHED-TTL:P3D
REFRESH-INTERVAL:P3D
CALSCALE:GREGORIAN
BEGIN:VEVENT
DTSTART:20160514T223000Z
DTEND:20160515T030000Z
X-MICROSOFT-CDO-ALLDAYEVENT:FALSE
SUMMARY:River Park Festival
DESCRIPTION:This event includes:\n\nSan Diego River Run 5K (begins at 3:30pm-- Register at active.com)\n\nLive Music\n\nKids' Corner\n\nFood & Beer Garden\n\nBMX Demos\n\nTree Planting(sign up at signupgenius.com)\n\nInteractive Booths
X-ALT-DESC;FMTTYPE=text/html:This event includes:<br />\nSan Diego River Run 5K (begins at 3:30pm--&nbsp\;Register at active.com)<br />\nLive Music<br />\nKids&#39\; Corner<br />\nFood &amp\; Beer Garden<br />\nBMX Demos<br />\nTree Planting(sign up at signupgenius.com)<br />\nInteractive Booths<br />\n&nbsp\;
LOCATION:550 Park Center Dr. Santee\, CA 92071
UID:e.2538.2837
SEQUENCE:3
DTSTAMP:20260425T183044Z
URL:https://santeechamber.com/events/details/river-park-festival-05-14-2016-2837
END:VEVENT

END:VCALENDAR
