BEGIN:VCALENDAR
VERSION:2.0
PRODID:-//ChamberMaster//Event Calendar 2.0//EN
METHOD:PUBLISH
X-PUBLISHED-TTL:P3D
REFRESH-INTERVAL:P3D
CALSCALE:GREGORIAN
BEGIN:VEVENT
DTSTART:20171117T230000Z
DTEND:20171118T000000Z
X-MICROSOFT-CDO-ALLDAYEVENT:FALSE
SUMMARY:Rise Up Industries Grand Opening
DESCRIPTION:Grand Opening for Rise Up Industries\n\nRise Up is vocational training for at risk youth and young adults
X-ALT-DESC;FMTTYPE=text/html:Grand Opening for Rise Up Industries<br />\nRise Up is vocational training for at risk youth and young adults
LOCATION:Rise Up Industries 8530 Roland Acres Drive Santee\, CA 92071
UID:e.2538.3025
SEQUENCE:3
DTSTAMP:20260424T142345Z
URL:https://santeechamber.com/events/details/rise-up-industries-grand-opening-3025
END:VEVENT

END:VCALENDAR
