BEGIN:VCALENDAR
VERSION:2.0
PRODID:-//ChamberMaster//Event Calendar 2.0//EN
METHOD:PUBLISH
X-PUBLISHED-TTL:P3D
REFRESH-INTERVAL:P3D
CALSCALE:GREGORIAN
BEGIN:VEVENT
DTSTART:20181017T220000Z
DTEND:20181017T230000Z
X-MICROSOFT-CDO-ALLDAYEVENT:FALSE
SUMMARY:Ribbon Cutting At Furology Pet SPaw
DESCRIPTION:It is the 1 year anniversary and ribbon cutting ceremony for Furology Pet SPaw!
X-ALT-DESC;FMTTYPE=text/html:It is the 1 year anniversary and ribbon cutting ceremony for Furology Pet SPaw!
LOCATION:Furology Pet SPaw 9730 Cuyamaca St. Suite A\, Santee\, California 92071
UID:e.2538.3227
SEQUENCE:3
DTSTAMP:20260423T193140Z
URL:https://santeechamber.com/events/details/ribbon-cutting-at-furology-pet-spaw-3227
END:VEVENT

END:VCALENDAR
