BEGIN:VCALENDAR
VERSION:2.0
PRODID:-//ChamberMaster//Event Calendar 2.0//EN
METHOD:PUBLISH
X-PUBLISHED-TTL:P3D
REFRESH-INTERVAL:P3D
CALSCALE:GREGORIAN
BEGIN:VEVENT
DTSTART:20160604T170000Z
DTEND:20160605T170000Z
X-MICROSOFT-CDO-ALLDAYEVENT:FALSE
SUMMARY:Relay For Life of Santee
DESCRIPTION:Join Santee's fight against cancer! Santee's finest cancer fighters assemble once a year to celebrate cancer survivors and their caregivers\, remember loved ones lost to the disease and fight back against something that has touch each and every one of us. This 24 hour team event is open to the public. Form a team of 2-25 members with friends\, family\, co-workers\, etc. You will be given a campsite as your home base for the entire event. Live entertainment\, family friendly activities and favorite events like the Ms. Relay Pageant and Luminaria Ceremony will keep you entertained and inspired! All funds raised help benefit the mission of the American Cancer Society: to fund more research to cure cancer faster and support those on their cancer journey through free programs and services.\n\n\n\nThere is no registration fee and no minimum fundraising amount. Participants who raise at least $100 will be inducted into our Hope Club and recieve prizes based on their total amount fundraised. Ask you coompany to sponsor your team to kick start your efforts. Comprehensive packages are available to local and national companies.
X-ALT-DESC;FMTTYPE=text/html:Join Santee&#39\;s fight against cancer! Santee&#39\;s finest cancer fighters assemble once a year to celebrate cancer survivors and their caregivers\, remember loved ones lost to the disease and fight back against something that has touch each and every one of us. This 24 hour team event is open to the public. Form a team of 2-25 members with friends\, family\, co-workers\, etc. You will be given a campsite as your home base for the entire event. Live entertainment\, family friendly activities and favorite events like the Ms. Relay Pageant and Luminaria Ceremony will keep you entertained and inspired! All funds raised help benefit the mission of the American Cancer Society: to fund more research to cure cancer faster and support those on their cancer journey through free programs and services.<br />\n<br />\nThere is no registration fee and no minimum fundraising amount. Participants who raise at least $100 will be inducted into our Hope Club and recieve prizes based on their total amount fundraised. Ask you coompany to sponsor your team to kick start your efforts. Comprehensive packages are available to local and national companies.
LOCATION:Town Center Community Park East
UID:e.2538.2550
SEQUENCE:3
DTSTAMP:20260425T170942Z
URL:https://santeechamber.com/events/details/relay-for-life-of-santee-06-04-2016-2550
END:VEVENT

END:VCALENDAR
