BEGIN:VCALENDAR
VERSION:2.0
PRODID:-//ChamberMaster//Event Calendar 2.0//EN
METHOD:PUBLISH
X-PUBLISHED-TTL:P3D
REFRESH-INTERVAL:P3D
CALSCALE:GREGORIAN
BEGIN:VEVENT
DTSTART:20190209T190000Z
DTEND:20190209T210000Z
X-MICROSOFT-CDO-ALLDAYEVENT:FALSE
SUMMARY:Relay For Life of East County KICKOFF!
DESCRIPTION:Come join us for our Relay For Life Of East County KICKOFF event! At this event you can learn more about why we Relay\, what you can do to make a difference in the lives of those suffering from cancer\, register\, dedicate a luminaria for a loved one\, form a team a much more! The American Cancer Society has many free programs for cancer patients and funds many different cancer research grants. Please help us continue our mission of saving lives\, celebrating lives\, and lead the fight for a world without cancer!
X-ALT-DESC;FMTTYPE=text/html:Come join us for our Relay For Life Of East County KICKOFF event! At this event you can learn more about why we Relay\, what you can do to make a difference in the lives of those suffering from cancer\, register\, dedicate a luminaria for a loved one\, form a team a much more! The American Cancer Society has many free programs for cancer patients and funds many different cancer research grants. Please help us continue our mission of saving lives\, celebrating lives\, and lead the fight for a world without cancer!
LOCATION:Lake Murray. 5540 Kiowa Dr La Mesa\, CA 91942
UID:e.2538.3283
SEQUENCE:3
DTSTAMP:20260423T132151Z
URL:https://santeechamber.com/events/details/relay-for-life-of-east-county-kickoff-3283
END:VEVENT

END:VCALENDAR
