BEGIN:VCALENDAR
VERSION:2.0
PRODID:-//ChamberMaster//Event Calendar 2.0//EN
METHOD:PUBLISH
X-PUBLISHED-TTL:P3D
REFRESH-INTERVAL:P3D
CALSCALE:GREGORIAN
BEGIN:VEVENT
DTSTART;VALUE=DATE:20190504
DTEND;VALUE=DATE:20190506
TRANSP:TRANSPARENT
X-MICROSOFT-CDO-ALLDAYEVENT:TRUE
SUMMARY:Relay For Life of East County
DESCRIPTION:Come join the American Cancer Society in supporting local cancer survivors and honoring those who have passed away from cancer at our yearly\, 24 hour\, Relay For Life fundraising event! Visit www.relayforlife.org/EastCountyca to register. You can form a team\, honor a loved one with a luminaria\, volunteer\, donate\, and more. If you're a cancer survivor we would love to honor you at the relay with our great accommodations and special survivors lap. We have many teams selling hand made items\, opportunity drawings\, silent auctions and more!
X-ALT-DESC;FMTTYPE=text/html:Come join the American Cancer Society in supporting local cancer survivors and honoring those who have passed away from cancer at our yearly\, 24 hour\, Relay For Life fundraising event! Visit www.relayforlife.org/EastCountyca to register. You can form a team\, honor a loved one with a luminaria\, volunteer\, donate\, and more. If you&#39\;re a cancer survivor we would love to honor you at the relay with our great accommodations and special survivors lap. We have many teams selling hand made items\, opportunity drawings\, silent auctions and more!
LOCATION:1495 Greenfield Dr\, El Cajon\, CA 92020
UID:e.2538.3282
SEQUENCE:3
DTSTAMP:20260423T081007Z
URL:https://santeechamber.com/events/details/relay-for-life-of-east-county-3282
END:VEVENT

END:VCALENDAR
