BEGIN:VCALENDAR
VERSION:2.0
PRODID:-//ChamberMaster//Event Calendar 2.0//EN
METHOD:PUBLISH
X-PUBLISHED-TTL:P3D
REFRESH-INTERVAL:P3D
CALSCALE:GREGORIAN
BEGIN:VEVENT
DTSTART:20160930T003000Z
DTEND:20160930T030000Z
X-MICROSOFT-CDO-ALLDAYEVENT:FALSE
SUMMARY:Politics in Paradise Business After 5 Mixer
DESCRIPTION:Join us as we follow-up Politics in Paradise with a casual mixer at BNS Brewery.
X-ALT-DESC;FMTTYPE=text/html:Join us as we follow-up Politics in Paradise with a casual mixer at BNS Brewery.&nbsp\;
LOCATION:BNS Brewery 10960 Wheatlands Ave #101 Santee\, CA 92071
UID:e.2538.2855
SEQUENCE:3
DTSTAMP:20260425T122549Z
URL:https://santeechamber.com/events/details/politics-in-paradise-business-after-5-mixer-09-29-2016-2855
END:VEVENT

END:VCALENDAR
