BEGIN:VCALENDAR
VERSION:2.0
PRODID:-//ChamberMaster//Event Calendar 2.0//EN
METHOD:PUBLISH
X-PUBLISHED-TTL:P3D
REFRESH-INTERVAL:P3D
CALSCALE:GREGORIAN
BEGIN:VEVENT
DTSTART:20160701T003000Z
DTEND:20160701T030000Z
X-MICROSOFT-CDO-ALLDAYEVENT:FALSE
SUMMARY:Politics in Paradise
DESCRIPTION:This event is an intimate summer evening with a delegation of San Diego's elected representatives and candidates in a mixer atmosphere that enables attendees the opportunity to meet\, interact with\, and question some of San Diego's most prominent federal\, state\, city and county lawmakers. Includes beer\, wine and appetizers in a cocktail mixer setting with representatives introduced and stationed around are for one on one interaction with guests.
X-ALT-DESC;FMTTYPE=text/html:This event is an intimate summer evening with a delegation of San Diego&#39\;s elected representatives and candidates in a mixer atmosphere that enables attendees the opportunity to meet\, interact with\, and question some of San Diego&#39\;s most prominent federal\, state\, city and county lawmakers. Includes beer\, wine and appetizers in a cocktail mixer setting with representatives introduced and stationed around are for one on one interaction with guests.&nbsp\;
LOCATION:The Water Conservation Garden 12122 Cuyamaca College Dr West El Cajon (Rancho San Diego)
UID:e.2538.2824
SEQUENCE:3
DTSTAMP:20260425T170512Z
URL:https://santeechamber.com/events/details/politics-in-paradise-06-30-2016-2824
END:VEVENT

END:VCALENDAR
