BEGIN:VCALENDAR
VERSION:2.0
PRODID:-//ChamberMaster//Event Calendar 2.0//EN
METHOD:PUBLISH
X-PUBLISHED-TTL:P3D
REFRESH-INTERVAL:P3D
CALSCALE:GREGORIAN
BEGIN:VEVENT
DTSTART:20160813T010000Z
DTEND:20160813T050000Z
X-MICROSOFT-CDO-ALLDAYEVENT:FALSE
SUMMARY:Pokemon: The Movie 2000
DESCRIPTION:Santee Lake Presents Movies & More by the Lake Entertainment provided by "Arena Rock" - Photo Booth - Games - Contests - Face Painting - Food
X-ALT-DESC;FMTTYPE=text/html:Santee Lake Presents Movies &amp\; More by the Lake Entertainment provided by &quot\;Arena Rock&quot\; - Photo Booth - Games - Contests - Face Painting - Food
LOCATION:Santee Lakes
UID:e.2538.2832
SEQUENCE:3
DTSTAMP:20260425T135434Z
URL:https://santeechamber.com/events/details/pokemon-the-movie-2000-08-12-2016-2832
END:VEVENT

END:VCALENDAR
