BEGIN:VCALENDAR
VERSION:2.0
PRODID:-//ChamberMaster//Event Calendar 2.0//EN
METHOD:PUBLISH
X-PUBLISHED-TTL:P3D
REFRESH-INTERVAL:P3D
CALSCALE:GREGORIAN
BEGIN:VEVENT
DTSTART:20190710T000000Z
DTEND:20190710T020000Z
X-MICROSOFT-CDO-ALLDAYEVENT:FALSE
SUMMARY:Open House
DESCRIPTION:Whether you have been in business for years or are just getting started\, the Santee Chamber of Commerce is here to support you along the way. \n\n \n\nWe'd like to invite you to an Open House to check out our office spaces available for rent on a daily\, weekly or monthly basis. In addition to private office suites\, \n\nwe also have a large conference room to accommodate groups of up to 25 guests. \n\n \n\nPlease join us or set up a private showing today!
X-ALT-DESC;FMTTYPE=text/html:<p class="direction-ltr align-center para-style-body" style="cursor: unset\; margin-top: var(--para-spacing)\; margin-right: 0px\; margin-bottom: 0px\; margin-left: 0px\; padding: 0px\; counter-reset: list-1 0 list-2 0 list-3 0 list-4 0 list-5 0 list-6 0 list-7 0 list-8 0 list-9 0\; text-align: center\; color: rgb(0\, 0\, 0)\; font-variant-ligatures: no-common-ligatures\; background-color: rgb(237\, 240\, 242)\; line-height: 1.4\; font-family: &quot\;YACgETiWKS8 0&quot\;\, _fb_\, auto\; font-size: 16.0603px\;"><span style="font-family:arial\;"><strong style="color: rgb(37\, 37\, 37)\;">Whether you have been in business for years or are just getting started\, the Santee Chamber of&nbsp\;Commerce is here to support you along the way.</strong><strong class="white-space-prewrap" style="white-space: pre-wrap\; color: rgb(37\, 37\, 37)\;"> </strong></span></p>\n\n<p class="direction-ltr align-center para-style-body" style="cursor: unset\; margin-top: var(--para-spacing)\; margin-right: 0px\; margin-bottom: 0px\; margin-left: 0px\; padding: 0px\; counter-reset: list-1 0 list-2 0 list-3 0 list-4 0 list-5 0 list-6 0 list-7 0 list-8 0 list-9 0\; text-align: center\; color: rgb(0\, 0\, 0)\; font-variant-ligatures: no-common-ligatures\; background-color: rgb(237\, 240\, 242)\; line-height: 1.4\; font-family: &quot\;YACgETiWKS8 0&quot\;\, _fb_\, auto\; font-size: 6.17703px\;">&nbsp\;</p>\n\n<p class="direction-ltr align-center para-style-body" style="cursor: unset\; margin-top: var(--para-spacing)\; margin-right: 0px\; margin-bottom: 0px\; margin-left: 0px\; padding: 0px\; counter-reset: list-1 0 list-2 0 list-3 0 list-4 0 list-5 0 list-6 0 list-7 0 list-8 0 list-9 0\; text-align: center\; color: rgb(0\, 0\, 0)\; font-variant-ligatures: no-common-ligatures\; background-color: rgb(237\, 240\, 242)\; line-height: 1.4\; font-family: &quot\;YACgETiWKS8 0&quot\;\, _fb_\, auto\; font-size: 16.0603px\;"><span style="font-family:arial\;"><strong style="color: rgb(37\, 37\, 37)\;">We&#39\;d like to invite you to an Open House to check out our office spaces available for rent on a daily\, weekly or monthly basis. In addition to private office suites\,</strong><strong class="white-space-prewrap" style="white-space: pre-wrap\; color: rgb(37\, 37\, 37)\;"> </strong></span></p>\n\n<p class="direction-ltr align-center para-style-body" style="cursor: unset\; margin-top: var(--para-spacing)\; margin-right: 0px\; margin-bottom: 0px\; margin-left: 0px\; padding: 0px\; counter-reset: list-1 0 list-2 0 list-3 0 list-4 0 list-5 0 list-6 0 list-7 0 list-8 0 list-9 0\; text-align: center\; color: rgb(0\, 0\, 0)\; font-variant-ligatures: no-common-ligatures\; background-color: rgb(237\, 240\, 242)\; line-height: 1.4\; font-family: &quot\;YACgETiWKS8 0&quot\;\, _fb_\, auto\; font-size: 16.0603px\;"><span style="font-family:arial\;"><strong style="color: rgb(37\, 37\, 37)\;">we also have a large conference room to accommodate groups of up to 25 guests.</strong><strong class="white-space-prewrap" style="white-space: pre-wrap\; color: rgb(37\, 37\, 37)\;"> </strong></span></p>\n\n<p class="direction-ltr align-center para-style-body" style="cursor: unset\; margin-top: var(--para-spacing)\; margin-right: 0px\; margin-bottom: 0px\; margin-left: 0px\; padding: 0px\; counter-reset: list-1 0 list-2 0 list-3 0 list-4 0 list-5 0 list-6 0 list-7 0 list-8 0 list-9 0\; text-align: center\; color: rgb(0\, 0\, 0)\; font-variant-ligatures: no-common-ligatures\; background-color: rgb(237\, 240\, 242)\; line-height: 1.4\; font-family: &quot\;YACgETiWKS8 0&quot\;\, _fb_\, auto\; font-size: 6.17703px\;">&nbsp\;</p>\n\n<p class="direction-ltr align-center para-style-body" style="cursor: unset\; margin-top: var(--para-spacing)\; margin-right: 0px\; margin-bottom: 0px\; margin-left: 0px\; padding: 0px\; counter-reset: list-1 0 list-2 0 list-3 0 list-4 0 list-5 0 list-6 0 list-7 0 list-8 0 list-9 0\; text-align: center\; color: rgb(0\, 0\, 0)\; font-variant-ligatures: no-common-ligatures\; background-color: rgb(237\, 240\, 242)\; line-height: 1.4\; font-family: &quot\;YACgETiWKS8 0&quot\;\, _fb_\, auto\; font-size: 16.0603px\;"><span style="font-family:arial\;"><strong style="color: rgb(37\, 37\, 37)\;">Please join us or set up a private showing today!</strong></span></p>\n
LOCATION:Santee Chamber of Commerce 10159 Mission Gorge Road Suite F Santee\, 92071
UID:e.2538.3469
SEQUENCE:3
DTSTAMP:20260423T044833Z
URL:https://santeechamber.com/events/details/open-house-3469
END:VEVENT

END:VCALENDAR
