BEGIN:VCALENDAR
VERSION:2.0
PRODID:-//ChamberMaster//Event Calendar 2.0//EN
METHOD:PUBLISH
X-PUBLISHED-TTL:P3D
REFRESH-INTERVAL:P3D
CALSCALE:GREGORIAN
BEGIN:VEVENT
DTSTART:20180615T000000Z
DTEND:20180615T063000Z
X-MICROSOFT-CDO-ALLDAYEVENT:FALSE
SUMMARY:Night Fishing
DESCRIPTION:Bring your lanterns and join us for a great night of fishing!
X-ALT-DESC;FMTTYPE=text/html:Bring your lanterns and join us for a great night of fishing!
LOCATION:Santee Lakes\, 9310 Fanita Parkway
UID:e.2538.3063
SEQUENCE:3
DTSTAMP:20260424T044317Z
URL:https://santeechamber.com/events/details/night-fishing-3063
END:VEVENT

END:VCALENDAR
