BEGIN:VCALENDAR
VERSION:2.0
PRODID:-//ChamberMaster//Event Calendar 2.0//EN
METHOD:PUBLISH
X-PUBLISHED-TTL:P3D
REFRESH-INTERVAL:P3D
CALSCALE:GREGORIAN
BEGIN:VEVENT
DTSTART:20180824T000000Z
DTEND:20180824T063000Z
X-MICROSOFT-CDO-ALLDAYEVENT:FALSE
SUMMARY:Night Fishing
DESCRIPTION:Bring your lanterns for a fun night of fishing at Santee Lakes! Follow us on Facebook for details of this and other events.
X-ALT-DESC;FMTTYPE=text/html:Bring your lanterns for a fun night of fishing at Santee Lakes! Follow us on Facebook for details of this and other events.
LOCATION:Santee Lakes
UID:e.2538.3068
SEQUENCE:3
DTSTAMP:20260424T002200Z
URL:https://santeechamber.com/events/details/night-fishing-08-23-2018-3068
END:VEVENT

END:VCALENDAR
