BEGIN:VCALENDAR
VERSION:2.0
PRODID:-//ChamberMaster//Event Calendar 2.0//EN
METHOD:PUBLISH
X-PUBLISHED-TTL:P3D
REFRESH-INTERVAL:P3D
CALSCALE:GREGORIAN
BEGIN:VEVENT
DTSTART:20180713T000000Z
DTEND:20180713T063000Z
X-MICROSOFT-CDO-ALLDAYEVENT:FALSE
SUMMARY:Night Fishing
DESCRIPTION:Bring your lanterns and join us for a fun night of fishing! Follow us on Facebook for details of this event and others at the Lakes!
X-ALT-DESC;FMTTYPE=text/html:Bring your lanterns and join us for a fun night of fishing! Follow us on Facebook for details of this event and others at the Lakes!
LOCATION:Santee Lakes\, 9310 Fanita Pkwy
UID:e.2538.3065
SEQUENCE:3
DTSTAMP:20260424T015423Z
URL:https://santeechamber.com/events/details/night-fishing-07-12-2018-3065
END:VEVENT

END:VCALENDAR
