BEGIN:VCALENDAR
VERSION:2.0
PRODID:-//ChamberMaster//Event Calendar 2.0//EN
METHOD:PUBLISH
X-PUBLISHED-TTL:P3D
REFRESH-INTERVAL:P3D
CALSCALE:GREGORIAN
BEGIN:VEVENT
DTSTART:20180629T000000Z
DTEND:20180629T063000Z
X-MICROSOFT-CDO-ALLDAYEVENT:FALSE
SUMMARY:Night Fishing
DESCRIPTION:Bring your lanterns for a fun night of fishing! Check our Facebook events page for details.
X-ALT-DESC;FMTTYPE=text/html:Bring your lanterns for a fun night of fishing! Check our Facebook events page for details.
LOCATION:Santee Lakes\, 9310 Fanita Pkwy.
UID:e.2538.3064
SEQUENCE:3
DTSTAMP:20260424T044926Z
URL:https://santeechamber.com/events/details/night-fishing-06-28-2018-3064
END:VEVENT

END:VCALENDAR
