BEGIN:VCALENDAR
VERSION:2.0
PRODID:-//ChamberMaster//Event Calendar 2.0//EN
METHOD:PUBLISH
X-PUBLISHED-TTL:P3D
REFRESH-INTERVAL:P3D
CALSCALE:GREGORIAN
BEGIN:VEVENT
DTSTART:20180807T230000Z
DTEND:20180808T020000Z
X-MICROSOFT-CDO-ALLDAYEVENT:FALSE
SUMMARY:National Night Out
DESCRIPTION:This year the Santee and Lakeside Sheriff's stations are co-hosting National Night Out on Tuesday August 7th from 4 PM- 7 PM. It will be at Trolley Square in Santee near the Starbucks. \n\n \n\n**A brief summary of National Night Out:\n\nNational Night Out is an annual community-building campaign that promotes police-community partnerships and neighborhood camaraderie to make our neighborhoods a safer\, better place to live. Neighborhoods across the nation host block parties\, festivals\, parades\, cookouts and other various community events with safety demonstrations\, seminars\, youth activities\, and exhibits.**
X-ALT-DESC;FMTTYPE=text/html:<span style="font-size: medium\;"><span style="font-family: calibri\;">This year the Santee and Lakeside Sheriff&#39\;s stations are co-hosting National Night Out on Tuesday August 7th from 4 PM- 7 PM. It will be at Trolley Square in Santee near the Starbucks. </span></span><br />\n&nbsp\;<br />\n<span style="font-size: medium\;"><span style="font-family: calibri\;">**A brief summary of National Night Out:</span></span><br />\n<span style="font-size: medium\;"><span style="font-family: calibri\;">National Night Out is an annual community-building campaign that promotes police-community partnerships and neighborhood camaraderie to make our neighborhoods a safer\, better place to live. Neighborhoods across the nation host block parties\, festivals\, parades\, cookouts and other various community events with safety demonstrations\, seminars\, youth activities\, and exhibits.**</span></span><br />\n&nbsp\;
LOCATION:Santee Trolley Square Mission Gorge Road & Cuyamaca St. (near the Starbucks) Santee\, CA 92071
UID:e.2538.3220
SEQUENCE:3
DTSTAMP:20260424T010316Z
URL:https://santeechamber.com/events/details/national-night-out-3220
END:VEVENT

END:VCALENDAR
