BEGIN:VCALENDAR
VERSION:2.0
PRODID:-//ChamberMaster//Event Calendar 2.0//EN
METHOD:PUBLISH
X-PUBLISHED-TTL:P3D
REFRESH-INTERVAL:P3D
CALSCALE:GREGORIAN
BEGIN:VEVENT
DTSTART:20170720T003000Z
DTEND:20170720T023000Z
X-MICROSOFT-CDO-ALLDAYEVENT:FALSE
SUMMARY:Multi-Chamber Mixer
DESCRIPTION:Come mix and mingle! Five Chambers of Commerce are represented: Alpine\, East County\, Lakeside\, La Mesa\, and Santee!
X-ALT-DESC;FMTTYPE=text/html:<p style="box-sizing: border-box\; margin: 0px 0px 20px\; font-family: &quot\;Helvetica Neue&quot\;\, Helvetica\, Arial\, sans-serif\; font-size: 14px\;">Come mix and mingle! Five Chambers of Commerce are represented: Alpine\, East County\, Lakeside\, La Mesa\, and Santee!</p>\n
LOCATION:San Diego Air and Space Museum (in Balboa Park) 2001 Pan American Plaza San Diego\, CA 92101
UID:e.2538.3021
SEQUENCE:3
DTSTAMP:20260424T204657Z
URL:https://santeechamber.com/events/details/multi-chamber-mixer-3021
END:VEVENT

END:VCALENDAR
