BEGIN:VCALENDAR
VERSION:2.0
PRODID:-//ChamberMaster//Event Calendar 2.0//EN
METHOD:PUBLISH
X-PUBLISHED-TTL:P3D
REFRESH-INTERVAL:P3D
CALSCALE:GREGORIAN
BEGIN:VEVENT
DTSTART:20180623T010000Z
DTEND:20180623T050000Z
X-MICROSOFT-CDO-ALLDAYEVENT:FALSE
SUMMARY:Movies & More at the Lake
DESCRIPTION:Movies & More by the Lake features Lego Batman! Dress as your favorite superhero and join us for fun under the stars! Fun begins at 6PM and movie starts at sundown (8ish).
X-ALT-DESC;FMTTYPE=text/html:Movies &amp\; More by the Lake features Lego Batman! Dress as your favorite superhero and join us for fun under the stars! Fun begins at 6PM and movie starts at sundown (8ish).
LOCATION:Santee Lakes\, 9310 Fanita Parkway
UID:e.2538.3060
SEQUENCE:3
DTSTAMP:20260424T032305Z
URL:https://santeechamber.com/events/details/movies-more-at-the-lake-3060
END:VEVENT

END:VCALENDAR
