BEGIN:VCALENDAR
VERSION:2.0
PRODID:-//ChamberMaster//Event Calendar 2.0//EN
METHOD:PUBLISH
X-PUBLISHED-TTL:P3D
REFRESH-INTERVAL:P3D
CALSCALE:GREGORIAN
BEGIN:VEVENT
DTSTART:20180811T010000Z
DTEND:20180811T050000Z
X-MICROSOFT-CDO-ALLDAYEVENT:FALSE
SUMMARY:Movies & More at the Lake
DESCRIPTION:Coco will be featured at this movie night! There will be food trucks\, snack bar and fun activities before the movie begins.
X-ALT-DESC;FMTTYPE=text/html:Coco will be featured at this movie night! There will be food trucks\, snack bar and fun activities before the movie begins.
LOCATION:Santee Lakes\, 9310 Fanita Parkway
UID:e.2538.3062
SEQUENCE:3
DTSTAMP:20260424T001709Z
URL:https://santeechamber.com/events/details/movies-more-at-the-lake-08-10-2018-3062
END:VEVENT

END:VCALENDAR
