BEGIN:VCALENDAR
VERSION:2.0
PRODID:-//ChamberMaster//Event Calendar 2.0//EN
METHOD:PUBLISH
X-PUBLISHED-TTL:P3D
REFRESH-INTERVAL:P3D
CALSCALE:GREGORIAN
BEGIN:VEVENT
DTSTART:20180714T010000Z
DTEND:20180714T050000Z
X-MICROSOFT-CDO-ALLDAYEVENT:FALSE
SUMMARY:Movies & More at the Lake
DESCRIPTION:Moana will be joining us in person and on the gigantic outdoor screen! Food trucks\, snack bar\, activities and more await at this family friendly event!
X-ALT-DESC;FMTTYPE=text/html:Moana will be joining us in person and on the gigantic outdoor screen! Food trucks\, snack bar\, activities and more await at this family friendly event!
LOCATION:Santee Lakes\, 9310 Fanita Parkway
UID:e.2538.3061
SEQUENCE:3
DTSTAMP:20260424T015549Z
URL:https://santeechamber.com/events/details/movies-more-at-the-lake-07-13-2018-3061
END:VEVENT

END:VCALENDAR
