BEGIN:VCALENDAR
VERSION:2.0
PRODID:-//ChamberMaster//Event Calendar 2.0//EN
METHOD:PUBLISH
X-PUBLISHED-TTL:P3D
REFRESH-INTERVAL:P3D
CALSCALE:GREGORIAN
BEGIN:VEVENT
DTSTART:20161018T143000Z
DTEND:20161018T154500Z
X-MICROSOFT-CDO-ALLDAYEVENT:FALSE
SUMMARY:Morning Mix
DESCRIPTION:Enjoy networking and a presentation over  breakfast. \n\nSpeaker: Rosebell Murigu\, Fedcom Technology\n\nTopic: "Cyber-Security for Your Business"
X-ALT-DESC;FMTTYPE=text/html:&nbsp\;Enjoy networking and a presentation over &nbsp\;breakfast.&nbsp\;<br />\nSpeaker: Rosebell Murigu\, Fedcom Technology<br />\nTopic: &quot\;Cyber-Security for Your Business&quot\;
LOCATION:Mimi's Cafe 9812 Mission Gorge Rd Santee\, CA 92071
UID:e.2538.2565
SEQUENCE:3
DTSTAMP:20260425T105452Z
URL:https://santeechamber.com/events/details/morning-mix-10-18-2016-2565
END:VEVENT

END:VCALENDAR
