BEGIN:VCALENDAR
VERSION:2.0
PRODID:-//ChamberMaster//Event Calendar 2.0//EN
METHOD:PUBLISH
X-PUBLISHED-TTL:P3D
REFRESH-INTERVAL:P3D
CALSCALE:GREGORIAN
BEGIN:VEVENT
DTSTART:20171017T143000Z
DTEND:20171017T154500Z
X-MICROSOFT-CDO-ALLDAYEVENT:FALSE
SUMMARY:Morning Mix 10/17/2017
DESCRIPTION:Enjoy networking and a presentation over breakfast. \n\n\n\nSpeaker: Farmers Insurance\n\nTopic: 5 most important concerns relating to insurance
X-ALT-DESC;FMTTYPE=text/html:Enjoy networking and a presentation over breakfast.&nbsp\;<br />\n<br />\n<strong>Speaker:</strong>&nbsp\;Farmers Insurance<br />\n<strong>Topic:</strong>&nbsp\;5 most important concerns relating to insurance
LOCATION:Mimi's Cafe 9812 Mission Gorge Rd Santee\, CA 92071
UID:e.2538.2884
SEQUENCE:3
DTSTAMP:20260424T181942Z
URL:https://santeechamber.com/events/details/morning-mix-10-17-2017-2884
END:VEVENT

END:VCALENDAR
