BEGIN:VCALENDAR
VERSION:2.0
PRODID:-//ChamberMaster//Event Calendar 2.0//EN
METHOD:PUBLISH
X-PUBLISHED-TTL:P3D
REFRESH-INTERVAL:P3D
CALSCALE:GREGORIAN
BEGIN:VEVENT
DTSTART:20160920T143000Z
DTEND:20160920T154500Z
X-MICROSOFT-CDO-ALLDAYEVENT:FALSE
SUMMARY:Morning Mix
DESCRIPTION:Enjoy networking and a presentation over  breakfast. \n\nSpeaker: Marlene Best\, Santee City Manager\n\nTopic: State of the City
X-ALT-DESC;FMTTYPE=text/html:&nbsp\;Enjoy networking and a presentation over &nbsp\;breakfast.&nbsp\;<br />\nSpeaker: Marlene Best\, Santee City Manager<br />\nTopic: State of the City
LOCATION:Mimi's Cafe 9812 Mission Gorge Rd Santee\, CA 92071
UID:e.2538.2564
SEQUENCE:3
DTSTAMP:20260425T122051Z
URL:https://santeechamber.com/events/details/morning-mix-09-20-2016-2564
END:VEVENT

END:VCALENDAR
