BEGIN:VCALENDAR
VERSION:2.0
PRODID:-//ChamberMaster//Event Calendar 2.0//EN
METHOD:PUBLISH
X-PUBLISHED-TTL:P3D
REFRESH-INTERVAL:P3D
CALSCALE:GREGORIAN
BEGIN:VEVENT
DTSTART:20160816T143000Z
DTEND:20160816T154500Z
X-MICROSOFT-CDO-ALLDAYEVENT:FALSE
SUMMARY:Morning Mix
DESCRIPTION:Enjoy networking and a presentation over  breakfast. \n\nSpeaker: Frank Sturniolo-REACH Air Medical Service\n\nTopic: "Ambulances of the Sky"
X-ALT-DESC;FMTTYPE=text/html:&nbsp\;Enjoy networking and a presentation over &nbsp\;breakfast.&nbsp\;<br />\nSpeaker: Frank Sturniolo-REACH Air Medical Service<br />\nTopic: &quot\;Ambulances of the Sky&quot\;
LOCATION:Mimi's Cafe 9812 Mission Gorge Rd Santee\, CA 92071
UID:e.2538.2563
SEQUENCE:3
DTSTAMP:20260425T135121Z
URL:https://santeechamber.com/events/details/morning-mix-08-16-2016-2563
END:VEVENT

END:VCALENDAR
