BEGIN:VCALENDAR
VERSION:2.0
PRODID:-//ChamberMaster//Event Calendar 2.0//EN
METHOD:PUBLISH
X-PUBLISHED-TTL:P3D
REFRESH-INTERVAL:P3D
CALSCALE:GREGORIAN
BEGIN:VEVENT
DTSTART:20170718T143000Z
DTEND:20170718T154500Z
X-MICROSOFT-CDO-ALLDAYEVENT:FALSE
SUMMARY:Morning Mix
DESCRIPTION:Enjoy networking and a presentation over breakfast. \n\n\n\nJoin the Santee Chamber of Commerce as we host our July Morning Mix as Kristina R. Hess\, of KR Hess Law - San Diego Estate Planning\, covers the 5 legal documents that every adult needs. She will discuss trusts\, wills\, financial power of attorney\, advance health care directive\, and HIPAA authorization. \n\n\n\n$15/ Santee Chamber Member Fee\n\n$20/ Non-Member Fee\n\nEntrance fee includes breakfast. \n\n\n\n\n\nAbout the Speaker: \n\nKristina R. Hess is the founding attorney of KR Hess Law\, PC in San Diego. Ms. Hess is a Berkeley Law Graduate and\n\nworked at premier international firms prior to opening her own Firm in 2009.\n\nMs. Hess has practiced law for 16 years. Ms. Hess is known as the lawyer other lawyers hire for their estate planning   the\n\nhighest compliment in the legal profession.\n\nFurther\, Ms. Hess was voted "Best Lawyer" 2015 for San Diego North Coast by Del Mar Times\, Carmel Valley News\,\n\nSolana Beach Sun\, and Rancho Santa Fe Review. Ms. Hess is also the co-author of Amazon.com best seller\, More Than\n\nMoney: How to Leave a Lasting Legacy to Your Family.
X-ALT-DESC;FMTTYPE=text/html:Enjoy networking and a presentation over breakfast.&nbsp\;<br />\n<br />\n<span style="color: rgb(75\, 79\, 86)\; font-family: Helvetica\, Arial\, sans-serif\; font-size: 14px\;">Join the&nbsp\;</span><a data-hovercard="/ajax/hovercard/page.php?id=557870860916477&amp\;extragetparams=%7B%22directed_target_id%22%3A1245696958892560%7D" data-hovercard-prefer-more-content-show="1" href="https://www.facebook.com/santee.chamber/" style="color: rgb(54\, 88\, 153)\; cursor: pointer\; text-decoration-line: none\; font-family: Helvetica\, Arial\, sans-serif\; font-size: 14px\;">Santee Chamber of Commerce</a><span style="color: rgb(75\, 79\, 86)\; font-family: Helvetica\, Arial\, sans-serif\; font-size: 14px\;">&nbsp\;as we host our July Morning Mix as&nbsp\;</span><a data-hovercard="/ajax/hovercard/page.php?id=1660795590869611&amp\;extragetparams=%7B%22directed_target_id%22%3A1245696958892560%7D" data-hovercard-prefer-more-content-show="1" href="https://www.facebook.com/KRHessLaw/" style="color: rgb(54\, 88\, 153)\; cursor: pointer\; text-decoration-line: none\; font-family: Helvetica\, Arial\, sans-serif\; font-size: 14px\;">Kristina R. Hess</a><span style="color: rgb(75\, 79\, 86)\; font-family: Helvetica\, Arial\, sans-serif\; font-size: 14px\;">\, of&nbsp\;</span><a data-hovercard="/ajax/hovercard/page.php?id=176338498803&amp\;extragetparams=%7B%22directed_target_id%22%3A1245696958892560%7D" data-hovercard-prefer-more-content-show="1" href="https://www.facebook.com/KR-Hess-Law-San-Diego-Estate-Planning-176338498803/" style="color: rgb(54\, 88\, 153)\; cursor: pointer\; text-decoration-line: none\; font-family: Helvetica\, Arial\, sans-serif\; font-size: 14px\;">KR Hess Law - San Diego Estate Planning</a><span style="color: rgb(75\, 79\, 86)\; font-family: Helvetica\, Arial\, sans-serif\; font-size: 14px\;">\, covers the 5 legal documents that every adult needs. She will discuss trusts\, wills\, financial power of attorney\, advance health care directive\, and HIPAA authorization.&nbsp\;</span><br style="color: rgb(75\, 79\, 86)\; font-family: Helvetica\, Arial\, sans-serif\; font-size: 14px\;" />\n<br style="color: rgb(75\, 79\, 86)\; font-family: Helvetica\, Arial\, sans-serif\; font-size: 14px\;" />\n<span style="color: rgb(75\, 79\, 86)\; font-family: Helvetica\, Arial\, sans-serif\; font-size: 14px\;">$15/ Santee Chamber Member Fee</span><br style="color: rgb(75\, 79\, 86)\; font-family: Helvetica\, Arial\, sans-serif\; font-size: 14px\;" />\n<span style="color: rgb(75\, 79\, 86)\; font-family: Helvetica\, Arial\, sans-serif\; font-size: 14px\;">$20/ Non-Member Fee</span><br style="color: rgb(75\, 79\, 86)\; font-family: Helvetica\, Arial\, sans-serif\; font-size: 14px\;" />\n<span style="color: rgb(75\, 79\, 86)\; font-family: Helvetica\, Arial\, sans-serif\; font-size: 14px\;">Entrance fee includes breakfast.&nbsp\;</span><br style="color: rgb(75\, 79\, 86)\; font-family: Helvetica\, Arial\, sans-serif\; font-size: 14px\;" />\n<br style="color: rgb(75\, 79\, 86)\; font-family: Helvetica\, Arial\, sans-serif\; font-size: 14px\;" />\n<br style="color: rgb(75\, 79\, 86)\; font-family: Helvetica\, Arial\, sans-serif\; font-size: 14px\;" />\n<span style="color: rgb(75\, 79\, 86)\; font-family: Helvetica\, Arial\, sans-serif\; font-size: 14px\;">About the Speaker:&nbsp\;</span><br style="color: rgb(75\, 79\, 86)\; font-family: Helvetica\, Arial\, sans-serif\; font-size: 14px\;" />\n<span style="color: rgb(75\, 79\, 86)\; font-family: Helvetica\, Arial\, sans-serif\; font-size: 14px\;">Kristina R. Hess is the founding attorney of KR Hess Law\, PC in San Diego. Ms. Hess is a Berkeley Law Graduate and</span><br style="color: rgb(75\, 79\, 86)\; font-family: Helvetica\, Arial\, sans-serif\; font-size: 14px\;" />\n<span style="color: rgb(75\, 79\, 86)\; font-family: Helvetica\, Arial\, sans-serif\; font-size: 14px\;">worked at premier international firms prior to opening her own Firm in 2009.</span><br style="color: rgb(75\, 79\, 86)\; font-family: Helvetica\, Arial\, sans-serif\; font-size: 14px\;" />\n<span style="color: rgb(75\, 79\, 86)\; font-family: Helvetica\, Arial\, sans-serif\; font-size: 14px\;">Ms. Hess has practiced law for 16 years. Ms. Hess is known as the lawyer other lawyers hire for their estate plannin</span><span class="text_exposed_show" style="display: inline\; font-family: Helvetica\, Arial\, sans-serif\; color: rgb(75\, 79\, 86)\; font-size: 14px\;">g &ndash\; the<br />\nhighest compliment in the legal profession.<br />\nFurther\, Ms. Hess was voted &ldquo\;Best Lawyer&rdquo\; 2015 for San Diego North Coast by Del Mar Times\, Carmel Valley News\,<br />\nSolana Beach Sun\, and Rancho Santa Fe Review. Ms. Hess is also the co-author of&nbsp\;<a href="http://amazon.com/" rel="nofollow noopener nofollow" style="color: rgb(54\, 88\, 153)\; cursor: pointer\; text-decoration-line: none\; font-family: inherit\;" target="_blank">Amazon.com</a>&nbsp\;best seller\, More Than<br />\nMoney: How to Leave a Lasting Legacy to Your Family.</span>
LOCATION:Mimi's Cafe 9812 Mission Gorge Rd Santee\, CA 92071
UID:e.2538.2881
SEQUENCE:3
DTSTAMP:20260424T220755Z
URL:https://santeechamber.com/events/details/morning-mix-07-18-2017-2881
END:VEVENT

END:VCALENDAR
