BEGIN:VCALENDAR
VERSION:2.0
PRODID:-//ChamberMaster//Event Calendar 2.0//EN
METHOD:PUBLISH
X-PUBLISHED-TTL:P3D
REFRESH-INTERVAL:P3D
CALSCALE:GREGORIAN
BEGIN:VEVENT
DTSTART:20170620T143000Z
DTEND:20170620T154500Z
X-MICROSOFT-CDO-ALLDAYEVENT:FALSE
SUMMARY:Morning Mix
DESCRIPTION:Enjoy networking and a presentation over breakfast. \n\n\n\nSpeaker: Jesse Navarro\, Director of Community Relations\, Office of the District Attorney \n\nTopic: Identity Theft & Consumer Protection
X-ALT-DESC;FMTTYPE=text/html:Enjoy networking and a presentation over breakfast.&nbsp\;<br />\n<br />\n<strong>Speaker:</strong>&nbsp\;<span style="font-size:12px\;"><span style="language:en-US\;font-weight:bold\;"><span style="color:#E9A909\;"><span style="font-family:calibri\;">Jesse Navarro\, Director of Community Relations\, Office of the District Attorney&nbsp\;</span></span></span></span><br />\n<strong>Topic:</strong>&nbsp\;<span style="font-size:12px\;"><span style="language:en-US\;font-weight:bold\;"><span style="color:#E9A909\;"><span style="font-family:calibri\;">Identity Theft &amp\; Consumer Protection</span></span></span></span>
LOCATION:Mimi's Cafe 9812 Mission Gorge Rd Santee\, CA 92071
UID:e.2538.2880
SEQUENCE:3
DTSTAMP:20260424T220712Z
URL:https://santeechamber.com/events/details/morning-mix-06-20-2017-2880
END:VEVENT

END:VCALENDAR
