BEGIN:VCALENDAR
VERSION:2.0
PRODID:-//ChamberMaster//Event Calendar 2.0//EN
METHOD:PUBLISH
X-PUBLISHED-TTL:P3D
REFRESH-INTERVAL:P3D
CALSCALE:GREGORIAN
BEGIN:VEVENT
DTSTART:20170516T143000Z
DTEND:20170516T154500Z
X-MICROSOFT-CDO-ALLDAYEVENT:FALSE
SUMMARY:Morning Mix
DESCRIPTION:Enjoy networking and a presentation over breakfast. \n\n\n\nSpeaker: New York Life\n\nTopic: Financial Protection for You & Your Business
X-ALT-DESC;FMTTYPE=text/html:Enjoy networking and a presentation over breakfast.&nbsp\;<br />\n<br />\n<strong>Speaker:</strong>&nbsp\;New York Life<br />\n<strong>Topic:</strong>&nbsp\;Financial Protection for You &amp\; Your Business
LOCATION:Mimi's Cafe 9812 Mission Gorge Rd Santee\, CA 92071
UID:e.2538.2879
SEQUENCE:3
DTSTAMP:20260424T234502Z
URL:https://santeechamber.com/events/details/morning-mix-05-16-2017-2879
END:VEVENT

END:VCALENDAR
