BEGIN:VCALENDAR
VERSION:2.0
PRODID:-//ChamberMaster//Event Calendar 2.0//EN
METHOD:PUBLISH
X-PUBLISHED-TTL:P3D
REFRESH-INTERVAL:P3D
CALSCALE:GREGORIAN
BEGIN:VEVENT
DTSTART:20170418T143000Z
DTEND:20170418T154500Z
X-MICROSOFT-CDO-ALLDAYEVENT:FALSE
SUMMARY:Morning Mix
DESCRIPTION:Enjoy networking and a presentation over breakfast. \n\n\n\nSpeakers: Dennis Cushman\, San Diego County Water Authority & Allen Carlisle\, Padre Dam Municipal Water Authority\n\nTopic: Water & Your Business
X-ALT-DESC;FMTTYPE=text/html:Enjoy networking and a presentation over breakfast.&nbsp\;<br />\n<br />\n<strong>Speakers:&nbsp\;</strong><span style="font-size:14px\;"><span style="font-family:times new roman\;">Dennis Cushman\, San Diego County Water Authority&nbsp\;&amp\; Allen Carlisle\, Padre Dam Municipal Water Authority</span></span><br />\n<strong>Topic:</strong>&nbsp\;Water &amp\; Your Business
LOCATION:Mimi's Cafe 9812 Mission Gorge Rd Santee\, CA 92071
UID:e.2538.2878
SEQUENCE:3
DTSTAMP:20260425T012317Z
URL:https://santeechamber.com/events/details/morning-mix-04-18-2017-2878
END:VEVENT

END:VCALENDAR
