BEGIN:VCALENDAR
VERSION:2.0
PRODID:-//ChamberMaster//Event Calendar 2.0//EN
METHOD:PUBLISH
X-PUBLISHED-TTL:P3D
REFRESH-INTERVAL:P3D
CALSCALE:GREGORIAN
BEGIN:VEVENT
DTSTART:20170321T143000Z
DTEND:20170321T154500Z
X-MICROSOFT-CDO-ALLDAYEVENT:FALSE
SUMMARY:Morning Mix
DESCRIPTION:Enjoy networking and a presentation over breakfast. \n\n\n\nSpeaker: Karie Kaufmann\, ACTIONcoach\n\nTopic: Ignite Your Marketing [Without Breaking the Bank]
X-ALT-DESC;FMTTYPE=text/html:Enjoy networking and a presentation over breakfast.&nbsp\;<br />\n<br />\n<strong>Speaker:</strong>&nbsp\;Karie Kaufmann\, ACTIONcoach<br />\n<strong>Topic:</strong>&nbsp\;Ignite Your Marketing [Without Breaking the Bank]&nbsp\;
LOCATION:Mimi's Cafe 9812 Mission Gorge Rd Santee\, CA 92071
UID:e.2538.2877
SEQUENCE:3
DTSTAMP:20260425T033100Z
URL:https://santeechamber.com/events/details/morning-mix-03-21-2017-2877
END:VEVENT

END:VCALENDAR
